BEGIN:VCALENDAR
VERSION:2.0
PRODID:-//Tukios.com/
BEGIN:VEVENT
UID:c741fdcb-4e02-49c5-a44c-76a7e55bf1b7@www.wilsonsfuneral.com
DTSTAMP:20260424T224058Z
DTSTART:20260429T190000Z
DTEND:20260429T200000Z
SUMMARY:Linda Jean Dziorny Memorial Service
DESCRIPTION:Brother Kent Nelson will be officiating.
URL:https://www.wilsonsfuneral.com/obituaries/linda-dziorny
LOCATION: 31404 NE 1st Ave  Carbon Hill AL 35549
GEO:33.8863879;-87.5212447
END:VEVENT
END:VCALENDAR